BEGIN:VCALENDAR
VERSION:2.0
PRODID:-//www.ccdpb.org//NONSGML kigkonsult.se iCalcreator 2.30.10//
CALSCALE:GREGORIAN
METHOD:PUBLISH
UID:ce4da91d-28c3-4b49-8fe8-858a54f0d2c0
X-WR-CALDESC:We are gathering items for new parents/babies - especially tho
 se who are going through crisis pregnancies\, as part of our 'Walking with
  Moms' Campaign. See link for a listing of items needed. Please contact ou
 r Birthline/Lifeline Programs at the following locations to schedule your 
 donation drop-off (M-F 9:00 am to 3pm):\n\nBirthline Lifeline\, 212 E. Boy
 nton Beach Blvd.\, Boynton Beach\, FL 33435 (561) 732-0570\nBirthline Life
 line @ Miracle House\, 3115 45th Street\, West Palm Beach FL 33407 (561) 2
 82-1467\nBirthline Lifeline\, 1119 Delaware Avenue\, Fort Pierce\, FL 3495
 0 (772) 241-5863\nCatholic Charities St. Francis Center\,100 W. 20th Stree
 t\, Riviera Beach\, FL 33404 (561) 360-3333
X-WR-RELCALID:a92aaa0cef1b257d2dcedbfa65a8652a
X-WR-TIMEZONE:America/New_York
BEGIN:VTIMEZONE
TZID:America/New_York
BEGIN:STANDARD
TZNAME:EST
DTSTART:20231105T020000
TZOFFSETFROM:-0400
TZOFFSETTO:-0500
RDATE:20241103T020000
END:STANDARD
BEGIN:DAYLIGHT
TZNAME:EDT
DTSTART:20240310T020000
TZOFFSETFROM:-0500
TZOFFSETTO:-0400
RDATE:20250309T020000
END:DAYLIGHT
END:VTIMEZONE
BEGIN:VEVENT
UID:3a26abe7-8068-46f5-92dc-4bf0d07e9b3a
DTSTAMP:20260424T001136Z
DESCRIPTION:We are gathering items for new parents/babies - especially thos
 e who are going through crisis pregnancies\, as part of our 'Walking with 
 Moms' Campaign. See link for a listing of items needed. Please contact our
  Birthline/Lifeline Programs at the following locations to schedule your d
 onation drop-off (M-F 9:00 am to 3pm):\n\nBirthline Lifeline\, 212 E. Boyn
 ton Beach Blvd.\, Boynton Beach\, FL 33435 (561) 732-0570\nBirthline Lifel
 ine @ Miracle House\, 3115 45th Street\, West Palm Beach FL 33407 (561) 28
 2-1467\nBirthline Lifeline\, 1119 Delaware Avenue\, Fort Pierce\, FL 34950
  (772) 241-5863\nCatholic Charities St. Francis Center\,100 W. 20th Street
 \, Riviera Beach\, FL 33404 (561) 360-3333
DTSTART;TZID=America/New_York:20240401T060000
DTEND;TZID=America/New_York:20240430T060001
LOCATION:Various drop off locations
SUMMARY:Diocese Wide Baby Shower for Families in Need - Month of April (Apr
 il Showers)
END:VEVENT
END:VCALENDAR
