BEGIN:VCALENDAR
VERSION:2.0
PRODID:-//www.ccdpb.org//NONSGML kigkonsult.se iCalcreator 2.30.10//
CALSCALE:GREGORIAN
METHOD:PUBLISH
UID:760ab68e-428c-40e3-9665-ce4355347b48
X-WR-CALDESC:Join us for a weekly in-person women empowerment group\, a saf
 e space to engage in discussions on self-confidence\, self-care\, goal-set
 ting\, and more!\n\nSession Dates:\nMay 30\nJune 6\nJune 13\nJune 20\nJune
  27\nJuly 11\nJuly 18\n\nLead by Catholic Charities Counselor\, Kayla Henr
 iques\, MSW\, Registered Intern.
X-WR-RELCALID:137d69df0b6c69a4b4dd3b3e54b752aa
X-WR-TIMEZONE:America/New_York
BEGIN:VTIMEZONE
TZID:America/New_York
BEGIN:STANDARD
TZNAME:EST
DTSTART:20231105T020000
TZOFFSETFROM:-0400
TZOFFSETTO:-0500
RDATE:20241103T020000
RDATE:20251102T020000
END:STANDARD
BEGIN:DAYLIGHT
TZNAME:EDT
DTSTART:20240310T020000
TZOFFSETFROM:-0500
TZOFFSETTO:-0400
RDATE:20250309T020000
END:DAYLIGHT
END:VTIMEZONE
BEGIN:VEVENT
UID:4f85945a-2509-4102-887f-a3e7cff6af95
DTSTAMP:20260423T215030Z
DESCRIPTION:Join us for a weekly in-person women empowerment group\, a safe
  space to engage in discussions on self-confidence\, self-care\, goal-sett
 ing\, and more!\n\nSession Dates:\nMay 30\nJune 6\nJune 13\nJune 20\nJune 
 27\nJuly 11\nJuly 18\n\nLead by Catholic Charities Counselor\, Kayla Henri
 ques\, MSW\, Registered Intern.
DTSTART;TZID=America/New_York:20240613T173000
DTEND;TZID=America/New_York:20240613T183000
LOCATION:3232 SE Dixie Hwy\, Stuart\, FL 34994 US
SUMMARY:Women Empowerment Group
END:VEVENT
END:VCALENDAR
