BEGIN:VCALENDAR
VERSION:2.0
PRODID:-//www.ccdpb.org//NONSGML kigkonsult.se iCalcreator 2.30.10//
CALSCALE:GREGORIAN
METHOD:PUBLISH
UID:d551b851-577f-49e2-8d5c-f23ce960905d
X-WR-CALDESC:
X-WR-RELCALID:a60798158a57a0d0d8cabdffb9ed5d96
X-WR-TIMEZONE:America/New_York
BEGIN:VTIMEZONE
TZID:America/New_York
BEGIN:STANDARD
TZNAME:EST
DTSTART:20241103T020000
TZOFFSETFROM:-0400
TZOFFSETTO:-0500
RDATE:20251102T020000
END:STANDARD
BEGIN:DAYLIGHT
TZNAME:EDT
DTSTART:20240310T020000
TZOFFSETFROM:-0500
TZOFFSETTO:-0400
RDATE:20250309T020000
RDATE:20260308T020000
END:DAYLIGHT
END:VTIMEZONE
BEGIN:VEVENT
UID:0310fe4a-a148-4082-9f57-f0b56630b770
DTSTAMP:20260425T002652Z
DESCRIPTION:
DTSTART;TZID=America/New_York:20241107T090000
DTEND;TZID=America/New_York:20241107T190000
LOCATION:2140 14th Avenue\, The Heritage Center\, Vero Beach\, FL 32960 US
SUMMARY:32nd Annual Soup Bowl benefiting the Samaritan Center
END:VEVENT
END:VCALENDAR
