BEGIN:VCALENDAR
VERSION:2.0
PRODID:-//www.ccdpb.org//NONSGML kigkonsult.se iCalcreator 2.30.10//
CALSCALE:GREGORIAN
METHOD:PUBLISH
UID:0d5a3fb3-22d9-425d-9b0a-1184b4b7eda0
X-WR-CALDESC:
X-WR-RELCALID:ff14b931739522cce5ec51bc91925bc0
X-WR-TIMEZONE:America/New_York
BEGIN:VTIMEZONE
TZID:America/New_York
BEGIN:STANDARD
TZNAME:EST
DTSTART:20241103T020000
TZOFFSETFROM:-0400
TZOFFSETTO:-0500
RDATE:20251102T020000
END:STANDARD
BEGIN:DAYLIGHT
TZNAME:EDT
DTSTART:20240310T020000
TZOFFSETFROM:-0500
TZOFFSETTO:-0400
RDATE:20250309T020000
RDATE:20260308T020000
END:DAYLIGHT
END:VTIMEZONE
BEGIN:VEVENT
UID:b9e31910-35c9-4422-92d8-7abe792ab375
DTSTAMP:20260421T083101Z
DESCRIPTION:
DTSTART;TZID=America/New_York:20250117T110000
DTEND;TZID=America/New_York:20250117T110000
LOCATION:The Historic Courthouse\, 300 N. Dixie Hwy.\, West Palm Beach\, FL
  33401 US
SUMMARY:Rosary for the Unborn with Most Reverend Gerald M. Barbarito
END:VEVENT
END:VCALENDAR
