BEGIN:VCALENDAR
VERSION:2.0
PRODID:-//www.ccdpb.org//NONSGML kigkonsult.se iCalcreator 2.30.10//
CALSCALE:GREGORIAN
METHOD:PUBLISH
UID:55dc6b39-e050-48d6-858e-34353808efa3
X-WR-CALDESC:We are gathering items for new parents/babies - especially tho
 se who are going through crisis pregnancies\, as part of our 'Walking with
  Moms' Campaign.  Please contact our Birthline/Lifeline Programs at the fo
 llowing locations to schedule your donation drop-off (M-F 9:00 am to 3pm):
 \n\nBirthline Lifeline\, 212 E. Boynton Beach Blvd.\, Boynton Beach\, FL 3
 3435 (561) 732-0570\nBirthline Lifeline @ Miracle House\, 3115 45th Street
 \, West Palm Beach FL 33407 (561) 282-1467\nBirthline Lifeline\, 1119 Dela
 ware Avenue\, Fort Pierce\, FL 34950 (772) 241-5863
X-WR-RELCALID:026e84687b4fcefc3e47d551c5f9839f
X-WR-TIMEZONE:America/New_York
BEGIN:VTIMEZONE
TZID:America/New_York
BEGIN:STANDARD
TZNAME:EST
DTSTART:20251102T020000
TZOFFSETFROM:-0400
TZOFFSETTO:-0500
RDATE:20261101T020000
END:STANDARD
BEGIN:DAYLIGHT
TZNAME:EDT
DTSTART:20260308T020000
TZOFFSETFROM:-0500
TZOFFSETTO:-0400
RDATE:20270314T020000
END:DAYLIGHT
END:VTIMEZONE
BEGIN:VEVENT
UID:bcdee7a1-5e05-4d13-a4e3-c264540930a4
DTSTAMP:20260423T110307Z
DESCRIPTION:We are gathering items for new parents/babies - especially thos
 e who are going through crisis pregnancies\, as part of our 'Walking with 
 Moms' Campaign.  Please contact our Birthline/Lifeline Programs at the fol
 lowing locations to schedule your donation drop-off (M-F 9:00 am to 3pm):
 \n\nBirthline Lifeline\, 212 E. Boynton Beach Blvd.\, Boynton Beach\, FL 3
 3435 (561) 732-0570\nBirthline Lifeline @ Miracle House\, 3115 45th Street
 \, West Palm Beach FL 33407 (561) 282-1467\nBirthline Lifeline\, 1119 Dela
 ware Avenue\, Fort Pierce\, FL 34950 (772) 241-5863
DTSTART;TZID=America/New_York:20260401T060000
DTEND;TZID=America/New_York:20260430T060001
LOCATION:
SUMMARY:Diocese Wide Baby Shower for Families in Need (April Showers)
END:VEVENT
END:VCALENDAR
