BEGIN:VCALENDAR
VERSION:2.0
PRODID:-//www.ccdpb.org//NONSGML kigkonsult.se iCalcreator 2.30.10//
CALSCALE:GREGORIAN
METHOD:PUBLISH
UID:154267fd-6aa9-4e7a-9578-f3a51f5be275
X-WR-CALDESC:Unite for prayer for the protection of the unborn child. Most 
 Reverend Gerald M. Barbarito\, Bishop of Palm Beach\, will speak at the Ol
 d Courthouse in West Palm Beach at 11 AM.\n\nDirections and map on the att
 ached flyer. \n
X-WR-RELCALID:cf7f9ed20d26b13a856ae7fe796f4fc8
X-WR-TIMEZONE:America/New_York
BEGIN:VTIMEZONE
TZID:America/New_York
BEGIN:STANDARD
TZNAME:EST
DTSTART:20241103T020000
TZOFFSETFROM:-0400
TZOFFSETTO:-0500
RDATE:20251102T020000
END:STANDARD
BEGIN:DAYLIGHT
TZNAME:EDT
DTSTART:20240310T020000
TZOFFSETFROM:-0500
TZOFFSETTO:-0400
RDATE:20250309T020000
RDATE:20260308T020000
END:DAYLIGHT
END:VTIMEZONE
BEGIN:VEVENT
UID:ef9d0b3e-6dbf-4381-a1ce-1d1f17cbff90
DTSTAMP:20260419T124857Z
DESCRIPTION:Unite for prayer for the protection of the unborn child. Most R
 everend Gerald M. Barbarito\, Bishop of Palm Beach\, will speak at the Old
  Courthouse in West Palm Beach at 11 AM.\n\nDirections and map on the atta
 ched flyer. \n
DTSTART;TZID=America/New_York:20250117T110000
DTEND;TZID=America/New_York:20250117T120000
LOCATION:Old Courthouse West Palm Beach
SUMMARY:Roe V Wade: Legal Day of Prayer for the Unborn
END:VEVENT
END:VCALENDAR
