BEGIN:VCALENDAR
VERSION:2.0
PRODID:-//www.ccdpb.org//NONSGML kigkonsult.se iCalcreator 2.30.10//
CALSCALE:GREGORIAN
METHOD:PUBLISH
UID:3a6b6de9-b6dd-4418-86a1-f391dedac9db
X-WR-CALDESC:
X-WR-RELCALID:97b6d4b8a52c25108345798312316d9b
X-WR-TIMEZONE:America/New_York
BEGIN:VTIMEZONE
TZID:America/New_York
BEGIN:STANDARD
TZNAME:EST
DTSTART:20251102T020000
TZOFFSETFROM:-0400
TZOFFSETTO:-0500
RDATE:20261101T020000
RDATE:20271107T020000
END:STANDARD
BEGIN:DAYLIGHT
TZNAME:EDT
DTSTART:20260308T020000
TZOFFSETFROM:-0500
TZOFFSETTO:-0400
RDATE:20270314T020000
END:DAYLIGHT
END:VTIMEZONE
BEGIN:VEVENT
UID:4151d668-d809-441f-ad9b-a7ef27626e91
DTSTAMP:20260424T001908Z
DESCRIPTION:
DTSTART;TZID=America/New_York:20260516T073000
DTEND;TZID=America/New_York:20260516T140000
LOCATION:Pointe West Country Club\, 7500 14th Lane\, Vero Beach\, FL 32966 
 US
SUMMARY:20th Annual Bernard & Betty Egan Memorial Golf Classic
END:VEVENT
END:VCALENDAR
