BEGIN:VCALENDAR
VERSION:2.0
PRODID:-//www.ccdpb.org//NONSGML kigkonsult.se iCalcreator 2.30.10//
CALSCALE:GREGORIAN
METHOD:PUBLISH
UID:b28ec6d8-972b-4f4a-801e-b5cf343a9e74
X-WR-CALDESC:Enjoy a memorable night of fellowship and fun\, a gourmet dinn
 er and cocktail hour\, live entertainment\, silent and live auctions and o
 ther surprises.\n\nLIMITED SEATING AVAILBLE.
X-WR-RELCALID:f03fe0ffdf63486958b105d9bd5fa7c3
X-WR-TIMEZONE:America/New_York
BEGIN:VTIMEZONE
TZID:America/New_York
BEGIN:STANDARD
TZNAME:EST
DTSTART:20261101T020000
TZOFFSETFROM:-0400
TZOFFSETTO:-0500
RDATE:20271107T020000
END:STANDARD
BEGIN:DAYLIGHT
TZNAME:EDT
DTSTART:20260308T020000
TZOFFSETFROM:-0500
TZOFFSETTO:-0400
RDATE:20270314T020000
RDATE:20280312T020000
END:DAYLIGHT
END:VTIMEZONE
BEGIN:VEVENT
UID:5558b07b-46dd-4937-ab08-9a1b61dd2e5e
DTSTAMP:20260423T231855Z
DESCRIPTION:Enjoy a memorable night of fellowship and fun\, a gourmet dinne
 r and cocktail hour\, live entertainment\, silent and live auctions and ot
 her surprises.\n\nLIMITED SEATING AVAILBLE.
DTSTART;TZID=America/New_York:20270203T190000
DTEND;TZID=America/New_York:20270203T220000
LOCATION:The Breakers Palm Beach
SUMMARY:Caritas Dei Bishop's Gala
END:VEVENT
END:VCALENDAR
